BEGIN:VCALENDAR
VERSION:2.0
PRODID:-//wp-events-plugin.com//7.2.3.1//EN
TZID:America/Los_Angeles
X-WR-TIMEZONE:America/Los_Angeles
BEGIN:VEVENT
UID:293@cicinsacademy.com
DTSTART;TZID=America/Los_Angeles:20251103T090000
DTEND;TZID=America/Los_Angeles:20251108T180000
DTSTAMP:20251030T020026Z
URL:https://cicinsacademy.com/events/ic-insurance-academy-property-casualt
 y-52-hours-27/
SUMMARY:IC Insurance Academy Property & Casualty 52 Hours
DESCRIPTION:&nbsp\;\nProperty &amp\; Casualty 52 Hour\nCalifornia License P
 roperty &amp\; Casualty Broker/Agent\, 40 Hours + 12 Code &amp\; Ethics.\n
 Location- 10390 Commerce Center Dr Suite 150\, Rancho Cucamonga CA 91730
CATEGORIES:Property and Casualty Class
LOCATION:IC Insurance Academy\, 10390 Commerce Center dr STE C150\, Rancho 
 Cucamonga \, CA\, 91730\, United States
X-APPLE-STRUCTURED-LOCATION;VALUE=URI;X-ADDRESS=10390 Commerce Center dr ST
 E C150\, Rancho Cucamonga \, CA\, 91730\, United States;X-APPLE-RADIUS=100
 ;X-TITLE=IC Insurance Academy:geo:0,0
END:VEVENT
BEGIN:VTIMEZONE
TZID:America/Los_Angeles
X-LIC-LOCATION:America/Los_Angeles
BEGIN:STANDARD
DTSTART:20251102T010000
TZOFFSETFROM:-0700
TZOFFSETTO:-0800
TZNAME:PST
END:STANDARD
END:VTIMEZONE
END:VCALENDAR