BEGIN:VCALENDAR
VERSION:2.0
PRODID:-//wp-events-plugin.com//7.2.3.1//EN
TZID:America/Los_Angeles
X-WR-TIMEZONE:America/Los_Angeles
BEGIN:VEVENT
UID:102@cicinsacademy.com
DTSTART;TZID=America/Los_Angeles:20220926T090000
DTEND;TZID=America/Los_Angeles:20221001T180000
DTSTAMP:20220912T173324Z
URL:https://cicinsacademy.com/events/ic-insurance-academy-life-health-3/
SUMMARY:IC Insurance Academy Life & Health
DESCRIPTION:2022 IC Insurance Academy Life &amp\; Health\n\n&nbsp\;\nLife &
 amp\; Health 52 Hour\nCalifornia License Life &amp\; Health Broker/Agent\,
  40 Hours + 12 Code &amp\; Ethics.\n&nbsp\;\n\nREFUND POLICY 
CATEGORIES:Life and Health Class
LOCATION:IC Insurance Academy\, 9267 Haven Ave \, Rancho Cucamonga\, CA\, 9
 1730\, United States
X-APPLE-STRUCTURED-LOCATION;VALUE=URI;X-ADDRESS=9267 Haven Ave \, Rancho Cu
 camonga\, CA\, 91730\, United States;X-APPLE-RADIUS=100;X-TITLE=IC Insuran
 ce Academy:geo:0,0
END:VEVENT
BEGIN:VTIMEZONE
TZID:America/Los_Angeles
X-LIC-LOCATION:America/Los_Angeles
BEGIN:DAYLIGHT
DTSTART:20220313T030000
TZOFFSETFROM:-0800
TZOFFSETTO:-0700
TZNAME:PDT
END:DAYLIGHT
END:VTIMEZONE
END:VCALENDAR