BEGIN:VCALENDAR
VERSION:2.0
PRODID:-//wp-events-plugin.com//7.2.3.1//EN
TZID:America/Los_Angeles
X-WR-TIMEZONE:America/Los_Angeles
BEGIN:VEVENT
UID:246@cicinsacademy.com
DTSTART;TZID=America/Los_Angeles:20240923T170000
DTEND;TZID=America/Los_Angeles:20240925T210000
DTSTAMP:20240923T164148Z
URL:https://cicinsacademy.com/events/how-to-write-workers-compensation-cla
 ss-2024-4/
SUMMARY:How to write Workers Compensation Class 2024
DESCRIPTION:2024\nCome and learn how to write Workers Comp. Taught by  Noe
 l Tuazon.\nAddress: 10390 Commerce Center dr\, suite 150\n\nRancho Cucamon
 ga CA 91730\n\n5:00pm - 9:00pm\n\nAny questions please feel free to contac
 t our office at (909)481-2242\n\n&nbsp\;
CATEGORIES:Workers Compensation
LOCATION:IC Insurance Academy\, 10390 Commerce Center dr STE C150\, Rancho 
 Cucamonga \, CA\, 91730\, United States
X-APPLE-STRUCTURED-LOCATION;VALUE=URI;X-ADDRESS=10390 Commerce Center dr ST
 E C150\, Rancho Cucamonga \, CA\, 91730\, United States;X-APPLE-RADIUS=100
 ;X-TITLE=IC Insurance Academy:geo:0,0
END:VEVENT
BEGIN:VTIMEZONE
TZID:America/Los_Angeles
X-LIC-LOCATION:America/Los_Angeles
BEGIN:DAYLIGHT
DTSTART:20240310T030000
TZOFFSETFROM:-0800
TZOFFSETTO:-0700
TZNAME:PDT
END:DAYLIGHT
END:VTIMEZONE
END:VCALENDAR